BEGIN:VCALENDAR
VERSION:2.0
PRODID:-//eventon.com NONSGML v1.0//EN
CALSCALE:GREGORIAN
METHOD:PUBLISH
BEGIN:VEVENT
UID:69e8fc341e088
DTSTAMP:20260422T164956Z
DTSTART:20230326T100000Z
DTEND:20230326T150000Z
LOCATION:VSO School of Music 843 Seymour St\,  Vancouver\,  BC V6B 3L4
SUMMARY:Sisters In Jazz Day 2023
DESCRIPTION:Join JUNO-nominated &amp; Lieutenant Governor award recipient J
 odi Proznick (bass)\,  along with industry professionals Shruti Ramani (
 voice)\,  Ingrid Stitt (saxophone) &amp; Jamie Lee (drums)\,  to explo
 re jazz for a day in a welcoming and non-judgmental environment. Become imm
 ersed in the rhythms\,  improvisation\,  composition\,  and learn about the
  women who’ve brought magnificence to this popular genre of music. We[..]
 \nhttps://jodiproznick.com/events/sisters-in-jazz-day-2023/
URL:https://jodiproznick.com/events/sisters-in-jazz-day-2023/
END:VEVENT
END:VCALENDAR