BEGIN:VCALENDAR
VERSION:2.0
PRODID:-//eventon.com NONSGML v1.0//EN
CALSCALE:GREGORIAN
METHOD:PUBLISH
BEGIN:VEVENT
UID:69e8faf03c2ff
DTSTAMP:20260422T164432Z
DTSTART:20250518
DTEND:20250519
LOCATION:Pyatt Hall 843 Seymour Street Vancouver\,  BC V6B 3L4
SUMMARY:VSO School of Music Sisters in Jazz Day
DESCRIPTION:Join industry professionals Jodi Proznick\,  Shruti Ramani\,  I
 ngrid Stitt\,  Cindy Fairbank and featured guest artist Alyssa Allgood to e
 xplore jazz for a day in a welcoming and non-judgmental environment. Become
  immersed in the rhythms\,  improvisation\,  composition\,  and learn about
  the women who’ve brought magnificence to this popular genre of music.[..
 ]\nhttps://jodiproznick.com/events/vso-school-of-music-sisters-in-jazz-day/
URL:https://jodiproznick.com/events/vso-school-of-music-sisters-in-jazz-day/
END:VEVENT
END:VCALENDAR